BEGIN:VCALENDAR
VERSION:2.0
PRODID:-//Staßfurter URANIA e.V. - ECPv6.15.20//NONSGML v1.0//EN
CALSCALE:GREGORIAN
METHOD:PUBLISH
X-WR-CALNAME:Staßfurter URANIA e.V.
X-ORIGINAL-URL:https://www.stassfurter-urania.de
X-WR-CALDESC:Veranstaltungen für Staßfurter URANIA e.V.
REFRESH-INTERVAL;VALUE=DURATION:PT1H
X-Robots-Tag:noindex
X-PUBLISHED-TTL:PT1H
BEGIN:VTIMEZONE
TZID:Europe/Berlin
BEGIN:DAYLIGHT
TZOFFSETFROM:+0100
TZOFFSETTO:+0200
TZNAME:CEST
DTSTART:20250330T010000
END:DAYLIGHT
BEGIN:STANDARD
TZOFFSETFROM:+0200
TZOFFSETTO:+0100
TZNAME:CET
DTSTART:20251026T010000
END:STANDARD
BEGIN:DAYLIGHT
TZOFFSETFROM:+0100
TZOFFSETTO:+0200
TZNAME:CEST
DTSTART:20260329T010000
END:DAYLIGHT
BEGIN:STANDARD
TZOFFSETFROM:+0200
TZOFFSETTO:+0100
TZNAME:CET
DTSTART:20261025T010000
END:STANDARD
BEGIN:DAYLIGHT
TZOFFSETFROM:+0100
TZOFFSETTO:+0200
TZNAME:CEST
DTSTART:20270328T010000
END:DAYLIGHT
BEGIN:STANDARD
TZOFFSETFROM:+0200
TZOFFSETTO:+0100
TZNAME:CET
DTSTART:20271031T010000
END:STANDARD
END:VTIMEZONE
BEGIN:VEVENT
DTSTART;TZID=Europe/Berlin:20260513T150000
DTEND;TZID=Europe/Berlin:20260513T170000
DTSTAMP:20260425T152441
CREATED:20260423T192808Z
LAST-MODIFIED:20260423T192947Z
UID:10005151-1778684400-1778691600@www.stassfurter-urania.de
SUMMARY:Stadtgeschichte Staßfurt Leopoldshall
DESCRIPTION:Stadtgeschichte Staßfurt Leopoldshall\n\n\n\nHeimat neu sehen: Ein spannender Nachmittag zur Stadtgeschichte von Staßfurt und Leopoldshall\n\n\n\nMit der Veranstaltung „Stadtgeschichte Staßfurt Leopoldshall“ widmet sich die Staßfurter URANIA e. V. einem Thema\, das vielen Menschen in der Region besonders nah sein dürfte. Denn Stadtgeschichte ist nie nur Vergangenheit. Sie ist Erinnerung\, Entwicklung\, Identität – und manchmal auch eine Einladung\, vertraute Orte mit ganz neuen Augen zu betrachten. Genau darin liegt der besondere Reiz dieses Mittwochstreffs. \n\n\n\nWenn von Staßfurt und Leopoldshall die Rede ist\, geht es nicht bloß um Namen oder historische Daten. Es geht um die Entwicklung einer Region\, um wirtschaftliche Veränderungen\, um das Leben der Menschen vor Ort und um die Spuren\, die all das bis heute hinterlassen hat. Wer sich für Heimatgeschichte\, Industriekultur\, Salzgeschichte oder die Entwicklung der eigenen Stadt interessiert\, dürfte an diesem Nachmittag auf viele anregende Einblicke stoßen. \n\n\n\nStaßfurt und Leopoldshall – eng verbunden\, historisch bedeutsam\n\n\n\nDer Name Leopoldshall ist untrennbar mit der Geschichte der Region verbunden. Gerade in Verbindung mit Staßfurt eröffnet sich ein spannendes Kapitel regionaler Entwicklung\, das bis heute nachwirkt. Solche Themen wirken auf den ersten Blick manchmal lokal begrenzt – und sind gerade deshalb so wichtig. Denn oft versteht man erst über die Geschichte eines Ortes\, warum er heute so aussieht\, wie er aussieht. \n\n\n\nVermutlich wird der Vortrag deutlich machen\, wie eng wirtschaftliche\, soziale und städtebauliche Entwicklungen miteinander verflochten waren. Orte verändern sich nicht zufällig. Sie wachsen\, reagieren auf neue Bedingungen\, werden geprägt durch Arbeit\, Infrastruktur\, politische Entscheidungen und menschliche Lebenswege. Das gilt auch für Staßfurt und Leopoldshall. \n\n\n\nGeschichte wird besonders spannend\, wenn sie vor Ort greifbar wird\n\n\n\nEin besonders interessanter Aspekt dieser Veranstaltung ist der angegebene Treffpunkt am Großen Markt 9 in Staßfurt. Das deutet darauf hin\, dass die Auseinandersetzung mit der Geschichte nicht rein abstrakt bleibt\, sondern sich unmittelbar mit dem Stadtraum verbindet. Und genau das ist oft der Moment\, in dem regionale Geschichte lebendig wird. \n\n\n\nPlötzlich bekommen Gebäude\, Straßen und Plätze eine andere Bedeutung. Man läuft an Orten vorbei\, die man seit Jahren kennt – und merkt\, dass man sie eigentlich nie wirklich „gelesen“ hat. Solche Erfahrungen machen Veranstaltungen dieser Art wertvoll. Sie vermitteln nicht nur Wissen\, sondern schärfen den Blick für das eigene Umfeld. \n\n\n\nWarum regionale Geschichte heute so wichtig ist\n\n\n\nIn einer Zeit\, in der vieles schnell wechselt und lokale Bindungen manchmal schwächer werden\, wächst zugleich das Interesse an regionaler Geschichte\, Heimatkunde und den Wurzeln des eigenen Lebensumfelds. Das ist kein nostalgischer Rückzug\, sondern oft ein Ausdruck von Orientierung. Wer weiß\, woher eine Stadt kommt\, versteht auch ihre Gegenwart besser – und manchmal sogar ihre Zukunftsfragen. \n\n\n\nDie Staßfurter URANIA e. V. setzt mit diesem Thema ein wichtiges Zeichen. Erwachsenenbildung in Staßfurt bedeutet eben nicht nur allgemeines Wissen\, sondern auch die bewusste Beschäftigung mit der eigenen Region. Das schafft Nähe\, Identifikation und Gesprächsstoff – und zwar auf eine Weise\, die offen und zugänglich bleibt. \n\n\n\nEinladung zu einem nachdenklichen und lebendigen Geschichtsnachmittag\n\n\n\nMit Karl-Michael Beyer vom Staßfurter Geschichtsverein e. V. ist ein Referent zu Gast\, der das Thema sicher kenntnisreich und regional verankert vermitteln wird. Das verspricht keine trockene Geschichtsstunde\, sondern einen lebendigen Zugang zur Vergangenheit von Staßfurt und Leopoldshall. \n\n\n\nWer seine Stadt besser verstehen möchte\, wer sich für Geschichte in Staßfurt interessiert oder wer einfach Freude an fundierten Vorträgen mit lokalem Bezug hat\, sollte sich diesen Termin vormerken. Es ist eine gute Gelegenheit\, Vergangenheit nicht nur zu hören\, sondern gedanklich wirklich nachzuvollziehen. \n\n\n\n10 interessante Fakten zu Staßfurt und Leopoldshall\n\n\n\n\nLeopoldshall zeigt beispielhaft\, wie Wirtschaft und Siedlungsentwicklung zusammenwirken.\n\n\n\nStaßfurt gehört zu den historisch bedeutenden Standorten der Salz- und Kaliindustrie.\n\n\n\nDie industrielle Entwicklung prägte Wirtschaft\, Stadtbild und Alltag über lange Zeit.\n\n\n\nLeopoldshall war historisch ein eigenständiger Ort mit enger Verbindung zu Staßfurt.\n\n\n\nSalz und Bergbau spielten für die Entwicklung der Region eine zentrale Rolle.\n\n\n\nViele Stadtstrukturen lassen sich bis heute historisch erklären.\n\n\n\nIndustriekultur ist immer auch Sozialgeschichte – also Geschichte der Menschen.\n\n\n\nRegionale Geschichtsvereine tragen wesentlich dazu bei\, lokales Wissen zu bewahren.\n\n\n\nStadtgeschichte hilft dabei\, heutige Veränderungen besser einzuordnen.\n\n\n\nHeimatgeschichte wird besonders lebendig\, wenn sie mit konkreten Orten verbunden ist.
URL:https://www.stassfurter-urania.de/event/stadtgeschichte-stassfurt-leopoldshall/
LOCATION:Staßfurter Geschichtsverein e.V.\, Großer Markt 9\, Staßfurt\, 39418\, Germany
CATEGORIES:Mittwochstreff,Termine
ATTACH;FMTTYPE=image/webp:https://www.stassfurter-urania.de/wp-content/uploads/2026/04/1899-leopoldshall.webp
ORGANIZER;CN="Karl-Michael Beyer":MAILTO:stassfurter.geschichtsverein@web.de
END:VEVENT
END:VCALENDAR